BEGIN:VCALENDAR
VERSION:2.0
PRODID:-//Federal Bar Association Eastern District of Michigan Chapter - ECPv4.6.25//NONSGML v1.0//EN
CALSCALE:GREGORIAN
METHOD:PUBLISH
X-WR-CALNAME:Federal Bar Association Eastern District of Michigan Chapter
X-ORIGINAL-URL:https://fbamich.org
X-WR-CALDESC:Events for Federal Bar Association Eastern District of Michigan Chapter
BEGIN:VEVENT
DTSTART;VALUE=DATE:20220125
DTEND;VALUE=DATE:20220127
DTSTAMP:20260424T130744
CREATED:20210120T184645Z
LAST-MODIFIED:20211202T144745Z
UID:2759-1643068800-1643241599@fbamich.org
SUMMARY:2022 New Lawyers' Seminar
DESCRIPTION:VIRTUAL Seminar for New Lawyers: Navigating Your Way in State & Federal Court. \nPlease join us for the 46th Annual New Lawyer’s Seminar where you will receive practice tips and real-world advice about law\, procedure and strategy from Michigan’s top lawyers and judges. \nCost for this TWO DAY webinar is $85  (Please note:  No refunds provided for cancellations after December 20\, 2021). Registration fee includes presentation materials and a one-year local charter membership! \n  \nNotes \nThis is a TWO DAY Event!  There is no option to register for one day only.  Information will be sent out after registration on how to register for the mass swearing-in. \nCLICK HERE TO REGISTER FOR THE TWO-DAY EVENT\nNEW LAWYER’S SEMINAR PARTICIPANTS who sign up early enough will have the opportunity to participate in a mass swearing-in ceremony held during the seminar and be admitted to practice before the United States District Court for the Eastern District of Michigan. This mass-swearing in opportunity will be open only to individuals who register for the New Lawyer’s Seminar. \nNLS Registrants who signed up after the cut-off for the mass -swearing in can still get sworn in by going to the Court’s website and following the instructions provided there. \n  \n \n
URL:https://fbamich.org/event/2022-new-lawyers-seminar/
LOCATION:Zoom
CATEGORIES:Featured Event
ORGANIZER;CN="Lauren%20Mandel":MAILTO:fbamich@fbamich.org
END:VEVENT
END:VCALENDAR