BEGIN:VCALENDAR
VERSION:2.0
PRODID:-//Federal Bar Association Eastern District of Michigan Chapter - ECPv4.6.25//NONSGML v1.0//EN
CALSCALE:GREGORIAN
METHOD:PUBLISH
X-WR-CALNAME:Federal Bar Association Eastern District of Michigan Chapter
X-ORIGINAL-URL:https://fbamich.org
X-WR-CALDESC:Events for Federal Bar Association Eastern District of Michigan Chapter
BEGIN:VEVENT
DTSTART;TZID=America/Detroit:20221115T120000
DTEND;TZID=America/Detroit:20221115T130000
DTSTAMP:20260422T111641
CREATED:20221017T171218Z
LAST-MODIFIED:20221017T171218Z
UID:3301-1668513600-1668517200@fbamich.org
SUMMARY:Pro Bono Committee Meeting
DESCRIPTION:One mission of our chapter of the FBA is to elevate the practice of law within our district. There are ways in which we can assist our Court in the allocation of justice for all and one of them is by joining the Pro Bono Committee and listserv. \nHave you ever: \n1.      Wanted to serve as a pro bono attorney but simply couldn’t find the time to manage the entire file? Now\, thanks to a change to Local Rule 83.25 Attorney Appearance\, you can appear on a limited basis solely to take a critical deposition\, draft a significant motion\, argue at hearing\, and much more. See the rule: http://www.mied.uscourts.gov/altindex.cfm?pagefunction=localRuleView&lrnumber=LR83.25 \n2.      Thought about being a mediator\, but don’t know how to get started/get experience? \nout more about the opportunities available to provide needed service in one or both areas by signing up for our pro bono committee. The committee meets the third Tuesday at noon every other month (2022: Nov 15; 2023: Jan 17\, Mar 21\, May 16\, July 18\, Sep 19\, Nov 21). \nWe are looking for people who are: \n1.      Interested in helping to organize the effort and also \n2.      To join the effort (i.e. serving as pro bono counsel and/or as a mediator in a prisoner mediation case). \nBy signing up for the committee\, you are not agreeing to take a case. You are simply indicating your willingness to help organize and/or join the effort. \nTraining will be provided! To sign up\, email: fbamich@fbamich.org (Subj: Pro Bono Committee). \n  \n
URL:https://fbamich.org/event/pro-bono-committee-meeting/
LOCATION:Zoom
CATEGORIES:Featured Event
END:VEVENT
END:VCALENDAR