BEGIN:VCALENDAR
VERSION:2.0
PRODID:-//Federal Bar Association Eastern District of Michigan Chapter - ECPv4.6.25//NONSGML v1.0//EN
CALSCALE:GREGORIAN
METHOD:PUBLISH
X-WR-CALNAME:Federal Bar Association Eastern District of Michigan Chapter
X-ORIGINAL-URL:https://fbamich.org
X-WR-CALDESC:Events for Federal Bar Association Eastern District of Michigan Chapter
BEGIN:VEVENT
DTSTART;TZID=America/Detroit:20200713T120000
DTEND;TZID=America/Detroit:20200713T130000
DTSTAMP:20260422T105317
CREATED:20200221T232013Z
LAST-MODIFIED:20200615T171718Z
UID:2541-1594641600-1594645200@fbamich.org
SUMMARY:POSTPONED: Power Act Presentation
DESCRIPTION:The US District Court Eastern District of Michigan and the Pro Bono Committee of the Federal Bar Association Eastern District of Michigan is rescheduling the informative seminar on the Power Act \n  \n  \nWhen it takes place\, this event will educate our bar on the many benefits and need for  their efforts in providing pro bono services – especially to survivors of domestic violence\, dating violence\, sexual assault\, and stalking. \nAs originally scheduled\, our Panel included: \nJudge Melissa Cox – Wayne County Circuit Court \nStephanie Shaull – Family Advocate for The Guidance Center\, Lids-TALK \nAshley Lowe – CEO Lakeshore Legal Aid \nand Chief Judge Denise Page Hood will open this wonderful program. \nWe will be having the presentation in our Court as a “Lunch and Learn\,” sponsored by our FBA chapter but you must register in advance and a $10 lunch donation is suggested. \nSTAY TUNED FOR UPDATES: \n  \nOriginal Flyer \n \n
URL:https://fbamich.org/event/power-act-presentation/
LOCATION:Detroit Room\, Theodore Levin Courthouse\, 231 West Lafayette\, Detroit\, 48226\, United States
CATEGORIES:Featured Event
END:VEVENT
END:VCALENDAR