BEGIN:VCALENDAR
VERSION:2.0
PRODID:-//Federal Bar Association Eastern District of Michigan Chapter - ECPv4.6.25//NONSGML v1.0//EN
CALSCALE:GREGORIAN
METHOD:PUBLISH
X-WR-CALNAME:Federal Bar Association Eastern District of Michigan Chapter
X-ORIGINAL-URL:https://fbamich.org
X-WR-CALDESC:Events for Federal Bar Association Eastern District of Michigan Chapter
BEGIN:VEVENT
DTSTART;TZID=America/Detroit:20200402T180000
DTEND;TZID=America/Detroit:20200402T193000
DTSTAMP:20260422T124034
CREATED:20200223T194257Z
LAST-MODIFIED:20200316T161054Z
UID:2544-1585850400-1585855800@fbamich.org
SUMMARY:1st FBA EDMI Trivia Event - POSTPONED
DESCRIPTION:STAY TUNED FOR WHEN WE RESCHEDULE THIS EVENT.  IN THE MEANTIME – BRUSH UP ON YOUR TRIVIA! \n \nPlease join us in testing your knowledge with fellow FBA Colleagues and friends.  The event is free for FBA members (please login to register) and only $10 for guests. \n\n  \n  \n
URL:https://fbamich.org/event/1st-fba-edmi-trivia-event/
LOCATION:Detroit Shipping Company\, 474 Peterboro St\, Detroit\, MI\, 48201
CATEGORIES:Featured Event
ORGANIZER;CN="Adam%20Wenner":MAILTO:awenner@honigman.com
END:VEVENT
END:VCALENDAR